BEGIN:VCALENDAR
VERSION:2.0
CALSCALE:GREGORIAN
METHOD:PUBLISH
PRODID://MONA//88522
BEGIN:VEVENT
DTSTAMP:20260421T070423
VTIMEZONE:America/New_York
DTSTART:20200216T153000Z
DTEND:20200216T163000Z
UID:88522
SUMMARY:Spanish Learning Playgroup
LOCATION:
DESCRIPTION:Spanish Learning Playgroup\n\n02/16/20 10:30 AM EST\n - 02/16/20 11:30 AM EST\Description:\nThe Spanish-English Bilingual Families Subgroup is hosting a Parent-Child Spanish class for 0-4 year olds this Sunday February 16, from 10:30am to 11:30am. There is no associated cost. Location is a private home, please email maria_paola4@hotmail.com for address if planning to attend.\n\n 
X-ALT-DESC;FMTTYPE=text/html:Spanish Learning Playgroup<br /><br />02/16/20 10:30 AM EST - 02/16/20 11:30 AM EST<br />Description:<br />The Spanish-English Bilingual Families Subgroup is hosting a Parent-Child Spanish class for 0-4 year olds this Sunday February 16, from 10:30am to 11:30am. There is no associated cost. Location is a private home, please email <a href="mailto:maria_paola4@hotmail.com">maria_paola4@hotmail.com</a> for address if planning to attend.<br />
<br />
&nbsp;
PRIORITY:3
TRANSP:TRANSPARENT
BEGIN:VALARM
TRIGGER:-PT5M
ACTION:DISPLAY
DESCRIPTION:Reminder
END:VALARM
END:VEVENT
END:VCALENDAR
