BEGIN:VCALENDAR
VERSION:2.0
CALSCALE:GREGORIAN
METHOD:PUBLISH
PRODID://MONA//74590
BEGIN:VEVENT
DTSTAMP:20260424T115038
VTIMEZONE:America/New_York
DTSTART:20190828T230000Z
DTEND:20190829T003000Z
UID:74590
SUMMARY:MONA New Member Social, August 28th
LOCATION:SER, 1110 N Glebe Rd, Arlington, VA, 22201
DESCRIPTION:MONA New Member Social, August 28th\n\n08/28/19 07:00 PM EST\n - 08/28/19 08:30 PM EST\Description:\nWelcome to MONA! This event is especially for new members.\n\nJoin us for August's New Member Social at SER (bar area) to meet other new members, learn about MONA's offerings, or ask questions. SER has extended their happy hour pricing just for attendees of this event.\n\nWednesday, August 28, 7-8:30pm\nSER\n1110 N Glebe Rd\nArlington, VA 22201\n\nCan't make this day/time? Don't worry there will be upcoming opportunities during the day and weekends as well.\n\nPlease RSVP the number of attendees. If you have any questions about the event or venue, please reply to this email.\Location:\nSER\n1110 N Glebe Rd\nArlington, VA 22201
X-ALT-DESC;FMTTYPE=text/html:MONA New Member Social, August 28th<br /><br />08/28/19 07:00 PM EST - 08/28/19 08:30 PM EST<br />Description:<br />Welcome to MONA! This event is especially for new members.<br />
<br />
Join us for August's New Member Social at SER (bar area) to meet other new members, learn about MONA's offerings, or ask questions. SER has extended their happy hour pricing just for attendees of this event.<br />
<br />
Wednesday, August 28, 7-8:30pm<br />
SER<br />
1110 N Glebe Rd<br />
Arlington, VA 22201<br />
<br />
Can't make this day/time? Don't worry there will be upcoming opportunities during the day and weekends as well.<br />
<br />
Please RSVP the number of attendees. If you have any questions about the event or venue, please reply to this email.<br />Location:<br />SER<br />1110 N Glebe Rd<br />Arlington, VA 22201
PRIORITY:3
TRANSP:TRANSPARENT
BEGIN:VALARM
TRIGGER:-PT5M
ACTION:DISPLAY
DESCRIPTION:Reminder
END:VALARM
END:VEVENT
END:VCALENDAR
