BEGIN:VCALENDAR
VERSION:2.0
CALSCALE:GREGORIAN
METHOD:PUBLISH
PRODID://MONA//55699
BEGIN:VEVENT
DTSTAMP:20260423T123010
VTIMEZONE:America/New_York
DTSTART:20190126T161500Z
DTEND:20190126T170000Z
UID:55699
SUMMARY:Music Class with Breianne 1/26 11:15 
LOCATION:Clarendon United Methodist Church - Corry Hall, 606 N. Irving Street, Arlington, VA, 22201
DESCRIPTION:Music Class with Breianne 1/26 11:15 \n\n01/26/19 11:15 AM EST\n - 01/26/19 12:00 PM EST\Description:\nMusic Class with Breianne McKinley Zaug\nSaturday, January 12\n11:15 AM - 12:00 PM\nClarendon United Methodist Church - Corry Hall\n606 N. Irving Street\nArlington, VA 22201\n\nBring your kids to a MONA music playgroup session with Breianne McKinley Zaug. Breianne is a certified Music Together instructor and private music therapist who brings her guitar, rhythm instruments, & props to create a highly interactive 45-minute set of engaging music and movement activities for the whole family. \n\nThis mixed age (0-10) session is especially geared to children with special needs, but everyone is welcome to participate in class! If you have questions about specific accommodations, please email Breianne at breianne@mckinleymusictherapy.com.\n\nThis class is usually $24 per child. The MONA member price is $12 per child.\n\nRegister every child, including babies. Enter your child's name as you'd like Breianne to say it. \Location:\nClarendon United Methodist Church - Corry Hall\n606 N. Irving Street\nArlington, VA 22201
X-ALT-DESC;FMTTYPE=text/html:Music Class with Breianne 1/26 11:15 <br /><br />01/26/19 11:15 AM EST - 01/26/19 12:00 PM EST<br />Description:<br /><b>Music Class with&nbsp;Breianne&nbsp;McKinley Zaug</b><br />
Saturday, January 12<br />
11:15 AM - 12:00 PM<br />
Clarendon United Methodist Church - Corry Hall<br />
606 N. Irving Street<br />
Arlington, VA 22201<br />
<br />
Bring your kids to a MONA music playgroup session with Breianne McKinley Zaug.&nbsp;Breianne is a certified Music Together instructor and private music therapist who brings her guitar, rhythm instruments, &amp; props to create a highly interactive 45-minute set of engaging music and movement activities for the whole family.&nbsp;<br />
<br />
This mixed age (0-10) session is especially geared to children with special needs, but everyone is welcome to participate in class!&nbsp;If you have questions about specific accommodations, please email Breianne&nbsp;at&nbsp;breianne@mckinleymusictherapy.com.<br />
<br />
This class is usually $24 per child. The MONA member price is $12 per child.<br />
<br />
Register every child, including babies. Enter your child's name as you'd like Breianne to say it.&nbsp;<br />Location:<br />Clarendon United Methodist Church - Corry Hall<br />606 N. Irving Street<br />Arlington, VA 22201
PRIORITY:3
TRANSP:TRANSPARENT
BEGIN:VALARM
TRIGGER:-PT5M
ACTION:DISPLAY
DESCRIPTION:Reminder
END:VALARM
END:VEVENT
END:VCALENDAR
