BEGIN:VCALENDAR
VERSION:2.0
CALSCALE:GREGORIAN
METHOD:PUBLISH
PRODID://MONA//45632
BEGIN:VEVENT
DTSTAMP:20260420T045111
VTIMEZONE:America/New_York
DTSTART:20180823T151500Z
DTEND:20180823T160000Z
UID:45632
SUMMARY:Summer Music Class with Breianne McKinley 8/23 11:15
LOCATION:Clarendon United Methodist Church - 2nd floor conference room, 606 N. Irving Street, Arlington, VA, 22201
DESCRIPTION:Summer Music Class with Breianne McKinley 8/23 11:15\n\n08/23/18 11:15 AM EST\n - 08/23/18 12:00 PM EST\Description:\nBring your kids to a MONA-exclusive music playgroup session with Breianne McKinley this summer. Breianne is a certified Music Together instructor and private music therapist who brings her guitar, rhythm instruments, puppets, props, & parachute to create a highly interactive 45-minute set of engaging music and movement activities for the whole family.\n\nThis class is usually $24 per child. The MONA member price is $6 per child.\n\nRegister every child, including babies. Enter your child's name as you'd like Breianne to say it. Adult caregivers do not need to register or pay, so when you begin registration, update the first name field for the first registrant, with your child's name.\Location:\nClarendon United Methodist Church - 2nd floor conference room\n606 N. Irving Street\nArlington, VA 22201
X-ALT-DESC;FMTTYPE=text/html:Summer Music Class with Breianne McKinley 8/23 11:15<br /><br />08/23/18 11:15 AM EST - 08/23/18 12:00 PM EST<br />Description:<br />Bring your kids to a MONA-exclusive music playgroup session with Breianne McKinley this summer.&nbsp;Breianne is a certified Music Together instructor and private music therapist who brings her guitar, rhythm instruments, puppets, props, &amp; parachute to create a highly interactive 45-minute set of engaging music and movement activities for the whole family.<br />
<br />
This class is usually $24 per child. The MONA member price is $6 per child.<br />
<br />
Register every child, including babies. Enter your child's name as you'd like Breianne to say it.&nbsp;Adult caregivers do not need to register or pay, so when you begin registration, update the first name field for the first registrant, with your child's name.<br />Location:<br />Clarendon United Methodist Church - 2nd floor conference room<br />606 N. Irving Street<br />Arlington, VA 22201
PRIORITY:3
TRANSP:TRANSPARENT
BEGIN:VALARM
TRIGGER:-PT5M
ACTION:DISPLAY
DESCRIPTION:Reminder
END:VALARM
END:VEVENT
END:VCALENDAR
