BEGIN:VCALENDAR
VERSION:2.0
CALSCALE:GREGORIAN
METHOD:PUBLISH
PRODID://MONA//212558
BEGIN:VEVENT
DTSTAMP:20260421T100244
VTIMEZONE:America/New_York
DTSTART:20260426T130000Z
DTEND:20260426T143000Z
UID:212558
SUMMARY:DONA - Dad's Donuts & Coffee @ the Playground
LOCATION:Quincy Park, 1021 N Quincy St., Arlington, VA, 22201
DESCRIPTION:DONA - Dad's Donuts & Coffee @ the Playground\n\n04/26/26 09:00 AM EST\n - 04/26/26 10:30 AM EST\Description:\nWe're officially launching the Dads of North Arlington (DONA) subgroup!\nDads, bring the kids out and enjoy some fellowship, coffee, and donuts while the little ones play!\n\nEvent Details\nApril 26, 2026\n9:00 - 10:30 am\nQuincy Park, 1021 N Quincy St, Arlington, VA 22201\Location:\nQuincy Park\n1021 N Quincy St.\nArlington, VA 22201
X-ALT-DESC;FMTTYPE=text/html:DONA - Dad's Donuts & Coffee @ the Playground<br /><br />04/26/26 09:00 AM EST - 04/26/26 10:30 AM EST<br />Description:<br />We're officially launching the Dads of North Arlington (DONA) subgroup!<br />
Dads, bring the kids out and enjoy some fellowship, coffee, and donuts while the little ones play!<br />
<br />
<strong>Event Details</strong><br />
April 26, 2026<br />
9:00 - 10:30 am<br />
<strong>Quincy Park, 1021 N Quincy St, Arlington, VA 22201</strong><br />Location:<br />Quincy Park<br />1021 N Quincy St.<br />Arlington, VA 22201
PRIORITY:3
TRANSP:TRANSPARENT
BEGIN:VALARM
TRIGGER:-PT5M
ACTION:DISPLAY
DESCRIPTION:Reminder
END:VALARM
END:VEVENT
END:VCALENDAR
