BEGIN:VCALENDAR
VERSION:2.0
CALSCALE:GREGORIAN
METHOD:PUBLISH
PRODID://MONA//212282
BEGIN:VEVENT
DTSTAMP:20260419T083213
VTIMEZONE:America/New_York
DTSTART:20260519T230000Z
DTEND:20260520T001500Z
UID:212282
SUMMARY:MONA Roundtable: Navigating the Tricky 40's
LOCATION:Virtual
DESCRIPTION:MONA Roundtable: Navigating the Tricky 40's\n\n05/19/26 07:00 PM EST\n - 05/19/26 08:15 PM EST\Description:\nJoin us for our first MONA roundtable on navigating those years often referred to as the "sandwich generation". Those of us in our 40's and 50's are often simultaneously caring for growing children and aging parents, while also coping with many of the following challenges:\n-hormonal fluctuations and other physical changes\n-financial pressures and trying to save for college and/or retirement\n-career challenges: stagnating in an established career, the dreaded "midlife crisis" of questioning your career choices, and trying to plan for eventual retirement\n\nParticipants will be encouraged to share questions and observations. Several local experts will also join to provide feedback, offer guidance, and answer questions, including:\nSara Black, hormonal and pelvic health expert\nDr. Candace Harding, physical therapist and yoga instructor\nNikki Macdonald, financial advisor\nSharon Hood, career and leadership coach\nKate Marden, fitness/nutrition/health coach\Location:\nVirtual\n\n,
X-ALT-DESC;FMTTYPE=text/html:MONA Roundtable: Navigating the Tricky 40's<br /><br />05/19/26 07:00 PM EST - 05/19/26 08:15 PM EST<br />Description:<br />Join us for our first MONA roundtable on navigating those years often referred to as the &quot;sandwich generation&quot;. Those of us in our 40's and 50's are often simultaneously caring for growing children and aging parents, while also coping with many of the following challenges:<br />
-hormonal fluctuations and other physical changes<br />
-financial pressures and trying to save for college and/or retirement<br />
-career challenges: stagnating in an established career, the dreaded &quot;midlife crisis&quot; of questioning your career choices, and trying to plan for eventual retirement<br />
<br />
Participants will be encouraged to share questions and observations. Several local experts will also join to provide feedback, offer guidance, and answer questions, including:<br />
Sara Black, hormonal and pelvic health expert<br />
Dr. Candace Harding, physical therapist and yoga instructor<br />
Nikki Macdonald, financial advisor<br />
Sharon Hood, career and leadership coach<br />
Kate Marden, fitness/nutrition/health coach<br />Location:<br />Virtual<br /><br />,  
PRIORITY:3
TRANSP:TRANSPARENT
BEGIN:VALARM
TRIGGER:-PT5M
ACTION:DISPLAY
DESCRIPTION:Reminder
END:VALARM
END:VEVENT
END:VCALENDAR
