BEGIN:VCALENDAR
VERSION:2.0
CALSCALE:GREGORIAN
METHOD:PUBLISH
PRODID://MONA//212220
BEGIN:VEVENT
DTSTAMP:20260423T021151
VTIMEZONE:America/New_York
DTSTART:20260515T223000Z
DTEND:20260516T013000Z
UID:212220
SUMMARY:MONA Night Out - Clare & Don's
LOCATION:Clare & Don's Beach Shack, 130 N Washington St, Falls Church, VA, 22046
DESCRIPTION:MONA Night Out - Clare & Don's\n\n05/15/26 06:30 PM EST\n - 05/15/26 09:30 PM EST\Description:\nGet ready for a fantastic night out at our favorite beach shack! Join MONA for a laid-back evening filled with laughter, music, delicious food, and a few drinks! Don't miss the fun!\n\nEvent Details\nClare & Don's\nMay 15, 2026\n6:30 - 9:30 PM\n$20 per member / $30 per guest\nRSVP includes a two-course meal and tickets for two drinks.  Any additional drinks will be at Happy Hour prices.\Location:\nClare & Don's Beach Shack\n130 N Washington St\nFalls Church, VA 22046
X-ALT-DESC;FMTTYPE=text/html:MONA Night Out - Clare & Don's<br /><br />05/15/26 06:30 PM EST - 05/15/26 09:30 PM EST<br />Description:<br />Get ready for a fantastic night out at our favorite beach shack! Join MONA for a laid-back evening filled with laughter, music, delicious food, and a few drinks! Don't miss the fun!<br />
<br />
<strong>Event Details<br />
Clare &amp; Don's</strong><br />
May 15, 2026<br />
6:30 - 9:30 PM<br />
$20 per member / $30 per guest<br />
RSVP includes a two-course meal and tickets for two drinks.&nbsp; Any additional drinks will be at Happy Hour prices.<br />Location:<br />Clare & Don's Beach Shack<br />130 N Washington St<br />Falls Church, VA 22046
PRIORITY:3
TRANSP:TRANSPARENT
BEGIN:VALARM
TRIGGER:-PT5M
ACTION:DISPLAY
DESCRIPTION:Reminder
END:VALARM
END:VEVENT
END:VCALENDAR
