BEGIN:VCALENDAR
VERSION:2.0
CALSCALE:GREGORIAN
METHOD:PUBLISH
PRODID://MONA//212218
BEGIN:VEVENT
DTSTAMP:20260421T062733
VTIMEZONE:America/New_York
DTSTART:20260503T190000Z
DTEND:20260503T200000Z
UID:212218
SUMMARY:Baby Bachata
LOCATION:Quincy Park, 1021 N Quincy St., Arlington, VA, 22201
DESCRIPTION:Baby Bachata\n\n05/03/26 03:00 PM EST\n - 05/03/26 04:00 PM EST\Description:\n“Baby Bachata” taught by Gabriel Sanchez, winner of the “Best Dance Class in DC” for five years running!\n\nThis dance class is not only about movement and music - it's also about connection, healing, and joy. Postpartum can be very challenging for mothers, and dance can really help during this experience. Baby Bachata is a rhythmic class designed to help you bond with your little one while gently lifting your spirits through the beautiful rhythms of bachata. Whether you're navigating the ups and downs of postpartum or simply looking for a fun way to connect with your baby, this class offers a space to breathe, dance, and rediscover joy. It’s also joyful and soothing for your baby! Some babies fall asleep, while some babies laugh or smile through the entire class. It’s very stimulating in many ways for your little one, and promises to be a lot of fun for both. Join us and let the music guide you through this beautiful journey of motherhood.\n\nWho this is for: This dance class is intended for a mother or parent wearing their baby in a front carrier.\nWhen: Sunday, May 3\nTime: 3-4 pm\nLocation: Quincy Park, on the east side near N Nelson St (between the sand volleyball court and the picnic shelter)\nParking: Central Library parking lot\nTickets: $5 per family (mother/parent & baby)\nWhat to wear: Comfortable clothes and shoes for dancing, with your baby in a carrier\Location:\nQuincy Park\n1021 N Quincy St.\nArlington, VA 22201
X-ALT-DESC;FMTTYPE=text/html:Baby Bachata<br /><br />05/03/26 03:00 PM EST - 05/03/26 04:00 PM EST<br />Description:<br />&ldquo;Baby Bachata&rdquo; taught by Gabriel Sanchez, winner of the &ldquo;Best Dance Class in DC&rdquo; for five years running!<br />
<br />
This dance class is not only about movement and music - it's also about connection, healing, and joy. Postpartum can be very challenging for mothers, and dance can really help during this experience. Baby Bachata is a rhythmic class designed to help you bond with your little one while gently lifting your spirits through the beautiful rhythms of bachata. Whether you're navigating the ups and downs of postpartum or simply looking for a fun way to connect with your baby, this class offers a space to breathe, dance, and rediscover joy. It&rsquo;s also joyful and soothing for your baby! Some babies fall asleep, while some babies laugh or smile through the entire class. It&rsquo;s very stimulating in many ways for your little one, and promises to be a lot of fun for both. Join us and let the music guide you through this beautiful journey of motherhood.<br />
<br />
<strong>Who this is for: </strong>This dance class is intended for a mother or parent wearing their baby in a front carrier.<br />
<strong>When: </strong>Sunday, May 3<br />
<strong>Time: </strong>3-4 pm<br />
<strong>Location: </strong>Quincy Park, on the east side near N Nelson St (between the sand volleyball court and the picnic shelter)<br />
<strong>Parking:</strong> Central Library parking lot<br />
<strong>Tickets: </strong>$5 per family (mother/parent &amp; baby)<br />
<strong>What to wear: </strong>Comfortable clothes and shoes for dancing, with your baby in a carrier<br />Location:<br />Quincy Park<br />1021 N Quincy St.<br />Arlington, VA 22201
PRIORITY:3
TRANSP:TRANSPARENT
BEGIN:VALARM
TRIGGER:-PT5M
ACTION:DISPLAY
DESCRIPTION:Reminder
END:VALARM
END:VEVENT
END:VCALENDAR
