BEGIN:VCALENDAR
VERSION:2.0
CALSCALE:GREGORIAN
METHOD:PUBLISH
PRODID://MONA//212197
BEGIN:VEVENT
DTSTAMP:20260422T223921
VTIMEZONE:America/New_York
DTSTART:20260512T233000Z
DTEND:20260513T010000Z
UID:212197
SUMMARY:MONA Tennis
LOCATION:Tuckahoe Park Tennis Courts, 6559 24th St N, Arlington, VA, 22207
DESCRIPTION:MONA Tennis\n\n05/12/26 07:30 PM EST\n - 05/12/26 09:00 PM EST\Description:\nIf you are looking for an opportunity to hit the courts with a nice, fun group of women, please join us for MONA Tennis. We meet on Tuesday nights from 7:30 - 9:00 pm at the Tuckahoe Park courts starting in May, weather permitting. Players of all levels are welcome, however best suited for those with prior tennis experience who can rally. We typically start with casual rallying and end with friendly match play. All you need to participate is your racquet! No signup is required. For updates, please join the MONA Tennis subgroup on Groups.io.\Location:\nTuckahoe Park Tennis Courts\n6559 24th St N\nArlington, VA 22207
X-ALT-DESC;FMTTYPE=text/html:MONA Tennis<br /><br />05/12/26 07:30 PM EST - 05/12/26 09:00 PM EST<br />Description:<br />If you are looking for an opportunity to hit the courts with a nice, fun group of women, please join us for MONA Tennis. We meet on Tuesday nights from 7:30 - 9:00 pm at the Tuckahoe Park courts starting in May, weather permitting. Players of all levels are welcome, however best suited for those with prior tennis experience who can rally. We typically start with casual rallying and end with friendly match play. All you need to participate is your racquet! No signup is required. For updates, please join the MONA Tennis subgroup on Groups.io.<br />Location:<br />Tuckahoe Park Tennis Courts<br />6559 24th St N<br />Arlington, VA 22207
PRIORITY:3
TRANSP:TRANSPARENT
BEGIN:VALARM
TRIGGER:-PT5M
ACTION:DISPLAY
DESCRIPTION:Reminder
END:VALARM
END:VEVENT
END:VCALENDAR
