BEGIN:VCALENDAR
VERSION:2.0
CALSCALE:GREGORIAN
METHOD:PUBLISH
PRODID://MONA//212194
BEGIN:VEVENT
DTSTAMP:20260423T022915
VTIMEZONE:America/New_York
DTSTART:20260607T150000Z
DTEND:20260607T190000Z
UID:212194
SUMMARY:Annual Picnic @ Hayes Park
LOCATION:Hayes Park, 1516 N Lincoln St, Arlington, VA, 22201
DESCRIPTION:Annual Picnic @ Hayes Park\n\n06/07/26 11:00 AM EST\n - 06/07/26 03:00 PM EST\Description:\nIf you are registering after 9:00 am on June 7, 2026, please let the check-in desk know.  We will look up your registration online as it will not be on the check in sheets.\nJune 7th is MONA's annual member picnic.  Bring your family for a fun day at Hayes park.  Event starts at 11am and our first performer takes the stage at 11:15 am.  Don't forget to register your family ($5 and only one registration is needed per family) and pick up your tickets for free treats from the frozen treat/ice cream truck!\n\nThe details:\nHayes Park\nJune 7, 2026\n11 AM - 3 PM\n$5 per family (only one registration needed per family)\n\nFood trucks, face painters, glitter tattoo artists, and a lineup of wonderful performers. \n\nPerformer Schedule:\nTBD\n\nPack a picnic or enjoy a meal from the food truck (TBD)\n\nWe will also have Scoops2U, an ice cream treat truck.  Every family that registers will receive tickets for treats from truck!\n\Location:\nHayes Park\n1516 N Lincoln St\nArlington, VA 22201
X-ALT-DESC;FMTTYPE=text/html:Annual Picnic @ Hayes Park<br /><br />06/07/26 11:00 AM EST - 06/07/26 03:00 PM EST<br />Description:<br /><p data-end="178" data-start="129"><strong data-end="178" data-start="129"><span style="font-size:16px"><span style="color:#FF0000">If you are registering after 9:00 am on June 7, 2026, please let the check-in desk know.&nbsp; We will look up your registration online as it will not be on the check in sheets.</span></span></strong><br />
June 7th is MONA's annual member picnic.&nbsp; Bring your family for a fun day at Hayes park.&nbsp; Event starts at 11am and our first performer takes the stage at 11:15 am.&nbsp; Don't forget to register your family ($5 and only one registration is needed per family) and pick up your tickets for free treats from the frozen treat/ice cream truck!<br />
<br />
<strong>The details:</strong><br />
Hayes Park<br />
June 7, 2026<br />
11 AM - 3 PM<br />
$5 per family (only one registration needed per family)<br />
<br />
Food trucks, face painters, glitter tattoo artists, and a lineup of wonderful performers.&nbsp;<br />
<br />
<strong>Performer Schedule:</strong><br />
TBD<br />
<br />
Pack a picnic or enjoy a meal from the food truck (TBD)<br />
<br />
We will also have Scoops2U, an ice cream treat truck.&nbsp; Every family that registers will receive tickets for treats from truck!</p>
<br />Location:<br />Hayes Park<br />1516 N Lincoln St<br />Arlington, VA 22201
PRIORITY:3
TRANSP:TRANSPARENT
BEGIN:VALARM
TRIGGER:-PT5M
ACTION:DISPLAY
DESCRIPTION:Reminder
END:VALARM
END:VEVENT
END:VCALENDAR
