BEGIN:VCALENDAR
VERSION:2.0
CALSCALE:GREGORIAN
METHOD:PUBLISH
PRODID://MONA//211820
BEGIN:VEVENT
DTSTAMP:20260422T094855
VTIMEZONE:America/New_York
DTSTART:20260731T223000Z
DTEND:20260731T130000Z
UID:211820
SUMMARY:Smithsonian Sleepovers - Natural History Museum, Friday, July 31 - Ages 8-14
LOCATION:National History Museum, 10th Street and Constitution Ave., Washington, DC, 20560
DESCRIPTION:Smithsonian Sleepovers - Natural History Museum, Friday, July 31 - Ages 8-14\n\n07/31/26 06:30 PM EST\n - 07/31/26 09:00 AM EST\Description:\nSmithsonian Nighttime Adventures at the Natural History Museum are back!\n\nJoin fellow adventurers at one of the world's most visited museum as the doors close, the lights dim, and the crowds shuffle out for the day. Wander through the Fossil Hall, where dinosaurs cast giant shadows. Learn about Earth's past, discover the ocean's aquatic wonders, blast off to the moon, visit pollinators, and walk softly past mysterious mammals. Participate in games and challenges, immerse yourself in hand-on crafts and even learn how to eat like a T-rex while playing The Game of Survival.\n\n\nCost: $110/person (normally $150/person!)\n\nAges: 8 to 14 years old. There must be at least one adult for every five children in any group that registers. No siblings younger than 8. No adults without children. Every person coming must register.\n\nDate: Friday, July 31\n\nSchedule: (Previous schedule - subject to change)\n\n\n	6:30-7p.m. Check-in\n	7 to 7:30 p.m. Orientation and snack time\n	7:30 p.m. to 11:00 p.m. Interactive exploration of the museum, hands-on activities, Smithsonian Sleepover T-shirt sales\n	11:00 p.m. to 11:30 p.m.  Get ready to sleep \n	11:30 p.m. Bedtime\n	7:30 a.m. Breakfast\n	8:00 a.m. Family store opens\n	8:45 a.m. Time to say farewell...\n\nFor more information on the program please go to this website. (Smithsonian Sleepovers - Smithsonian Associates)\n\nPLEASE MAKE SURE EVERYONE IN YOUR GROUP HAS A TICKET.\n\n-MONA does not offer refunds or transfers\n-Please contact outings@monamoms.org with questions.\n \Location:\nNational History Museum\n10th Street and Constitution Ave.\nWashington, DC 20560
X-ALT-DESC;FMTTYPE=text/html:Smithsonian Sleepovers - Natural History Museum, Friday, July 31 - Ages 8-14<br /><br />07/31/26 06:30 PM EST - 07/31/26 09:00 AM EST<br />Description:<br /><h2>Smithsonian Nighttime Adventures at the Natural History Museum are back!</h2>

<h3>Join fellow adventurers at one of the world's most visited museum as the doors close, the lights dim, and the crowds shuffle out for the day. Wander through the Fossil Hall, where dinosaurs cast giant shadows. Learn about Earth's past, discover the ocean's aquatic wonders, blast off to the moon, visit pollinators, and walk softly past mysterious mammals. Participate in games and challenges, immerse yourself in hand-on crafts and even learn how to eat like a T-rex while playing&nbsp;<em>The Game of Survival</em>.</h3>

<p><br />
<strong>Cost: $110/person </strong>(normally $150/person!)<br />
<br />
<strong>Ages: 8 to 14 years old.</strong> There must be at least one adult for every five children in any group that registers. No siblings younger than 8. No adults without children. Every person coming must register.<br />
<br />
<strong>Date: </strong>Friday, July 31<br />
<br />
<strong>Schedule: (Previous schedule - subject to change)</strong></p>

<ul>
	<li><strong>6:30-7p.m.</strong>&nbsp;Check-in</li>
	<li><strong>7&nbsp;to 7:30&nbsp;p.m.</strong>&nbsp;Orientation and snack time</li>
	<li><strong>7:30 p.m. to 11:00 p.m.</strong>&nbsp;Interactive exploration of the museum, hands-on activities, Smithsonian Sleepover T-shirt sales</li>
	<li><strong>11:00 p.m. to 11:30 p.m.</strong>&nbsp; Get ready to sleep&nbsp;</li>
	<li><strong>11:30 p.m.</strong>&nbsp;Bedtime</li>
	<li><strong>7:30 a.m.</strong>&nbsp;Breakfast</li>
	<li><strong>8:00 a.m.</strong>&nbsp;Family store opens</li>
	<li><strong>8:45 a.m.</strong>&nbsp;Time to say farewell...</li>
</ul>
For more information on the program please go to this website. (<a href="https://smithsoniansleepovers.org/natural-history?utm_source=wordfly&amp;utm_medium=email&amp;utm_campaign=APR26eASleepovers4.8.26&amp;utm_content=version_A&amp;promo=287995">Smithsonian Sleepovers - Smithsonian Associates</a>)<br />
<br />
<strong>PLEASE MAKE SURE EVERYONE IN YOUR GROUP HAS A TICKET.</strong><br 0px="" />
<br 0px="" />
-MONA does not offer refunds or transfers<br />
-Please contact outings@monamoms.org&nbsp;with questions.<br 0px="" />
&nbsp;<br />Location:<br />National History Museum<br />10th Street and Constitution Ave.<br />Washington, DC 20560
PRIORITY:3
TRANSP:TRANSPARENT
BEGIN:VALARM
TRIGGER:-PT5M
ACTION:DISPLAY
DESCRIPTION:Reminder
END:VALARM
END:VEVENT
END:VCALENDAR
