BEGIN:VCALENDAR
VERSION:2.0
CALSCALE:GREGORIAN
METHOD:PUBLISH
PRODID://MONA//211550
BEGIN:VEVENT
DTSTAMP:20260419T181021
VTIMEZONE:America/New_York
DTSTART:20260630T230000Z
DTEND:20260701T000000Z
UID:211550
SUMMARY:Menopause, Continued: Understanding Hormone Therapy
LOCATION:Virtual
DESCRIPTION:Menopause, Continued: Understanding Hormone Therapy\n\n06/30/26 07:00 PM EST\n - 06/30/26 08:00 PM EST\Description:\nPlease join Dr. Sara Black, PT, DPT, founder of Zia Physiotherapy, on Tuesday, June 30 at 7 pm as she continues the discussion surrounding perimenopause/menopause. In our first conversation, we explored the body-wide changes during this stage of life and how lifestyle strategies can help support you through them. This follow-up session dives into another important piece of the puzzle: Menopause Hormone Therapy. We'll break down what hormone therapy actually is, who it may be appropriate for, common myths and fears, and how it can work alongside lifestyle changes, not replace them. The goal is clarity so you can make informed, confident decisions about your care. See you there!\Location:\nVirtual\n\n,
X-ALT-DESC;FMTTYPE=text/html:Menopause, Continued: Understanding Hormone Therapy<br /><br />06/30/26 07:00 PM EST - 06/30/26 08:00 PM EST<br />Description:<br />Please join Dr. Sara Black, PT, DPT, founder of Zia Physiotherapy, on Tuesday, June 30 at 7 pm as she continues the discussion surrounding perimenopause/menopause. In our first conversation, we explored the body-wide changes during this stage of life and how lifestyle strategies can help support you through them. This follow-up session dives into another important piece of the puzzle: Menopause Hormone Therapy. We'll break down what hormone therapy actually is, who it may be appropriate for, common myths and fears, and how it can work alongside lifestyle changes, not replace them. The goal is clarity so you can make informed, confident decisions about your care. See you there!<br />Location:<br />Virtual<br /><br />,  
PRIORITY:3
TRANSP:TRANSPARENT
BEGIN:VALARM
TRIGGER:-PT5M
ACTION:DISPLAY
DESCRIPTION:Reminder
END:VALARM
END:VEVENT
END:VCALENDAR
