BEGIN:VCALENDAR
VERSION:2.0
CALSCALE:GREGORIAN
METHOD:PUBLISH
PRODID://MONA//208795
BEGIN:VEVENT
DTSTAMP:20260422T080702
VTIMEZONE:America/New_York
DTSTART:20261113T000000Z
DTEND:20261113T020000Z
UID:208795
SUMMARY:Holiday Market 2026
LOCATION:Knights of Columbus, 5115 Little Falls Rd., Arlington, VA, 22207
DESCRIPTION:Holiday Market 2026\n\n11/12/26 07:00 PM EST\n - 11/12/26 09:00 PM EST\Description:\nEvent Details:\nMONA Holiday Market 2026\nThursday, November 12\n7:00 - 9:00 PM\nKnights of Columbus - 5115 Little Falls Rd.\n\nJoin us November 12, 2026 for the Annual MONA Holiday Market -- a showcase of dozens of local vendors  -- and get your holiday shopping done under one roof while enjoying wine and nibbles with your friends. We'll have a variety of products available: apparel and accessories, skin- and bodycare, cosmetics, home products, ceramics, art, books, jewelry, food, wine, supplements, and more! The list of past participating vendors can be seen here. Please note that this list will be updated with those participating in the 2026 market closer to the event.\n\nRegistration is free but an "all you can drink" bracelet is just  $7!    \nPLEASE NOTE: Drinks bracelets will cost $10 at the door so please register in advance if you plan on drinking!\nReminder: If you plan to drink, always plan for a safe ride home.\n\nMONA Members:  We need volunteers for this event.  You can sign up to volunteer to help with check-in and drink bracelets here.  Shifts are 30 minutes.  Volunteers receive free drink bracelets for the night, so sign up today!\Location:\nKnights of Columbus\n5115 Little Falls Rd.\nArlington, VA 22207
X-ALT-DESC;FMTTYPE=text/html:Holiday Market 2026<br /><br />11/12/26 07:00 PM EST - 11/12/26 09:00 PM EST<br />Description:<br /><strong>Event Details:</strong><br />
<strong>MONA Holiday Market 2026<br />
Thursday, November 12<br />
7:00 - 9:00 PM<br />
Knights of Columbus - 5115 Little Falls Rd.</strong><br />
<br />
Join us November 12, 2026 for the Annual MONA Holiday Market -- a showcase of dozens of local vendors &nbsp;-- and get your&nbsp;holiday shopping done under one roof while enjoying wine and nibbles with your friends. We'll have a variety of products available: apparel and accessories, skin- and bodycare, cosmetics, home products, ceramics, art, books, jewelry, food, wine, supplements, and more! The list of past participating vendors can be seen <a href="https://www.monamoms.org/annual_holiday_market.php">here</a>. Please note that this list will be updated with those participating in the 2026 market closer to the event.<br />
<br />
Registration is free but an &quot;all you can drink&quot; bracelet is just &nbsp;$7!&nbsp; &nbsp;&nbsp;<br />
PLEASE NOTE: Drinks bracelets will cost $10 at the door so please register in advance if you plan on drinking!<br />
<strong>Reminder: If you plan to drink, always plan for a safe ride home.</strong><br />
<br />
MONA Members:&nbsp; We need volunteers for this event.&nbsp; You can sign up to volunteer to help with check-in and drink bracelets <a href="https://mms.monamoms.org/members/volunteer/volunteer_redirect.php?org_id=MONA&amp;volunteer_id=7673839">here</a>.&nbsp; Shifts are 30 minutes.&nbsp; Volunteers receive free drink bracelets for the night, so sign up today!<br />Location:<br />Knights of Columbus<br />5115 Little Falls Rd.<br />Arlington, VA 22207
PRIORITY:3
TRANSP:TRANSPARENT
BEGIN:VALARM
TRIGGER:-PT5M
ACTION:DISPLAY
DESCRIPTION:Reminder
END:VALARM
END:VEVENT
END:VCALENDAR
