BEGIN:VCALENDAR
VERSION:2.0
CALSCALE:GREGORIAN
METHOD:PUBLISH
PRODID://MONA//208643
BEGIN:VEVENT
DTSTAMP:20260419T122804
VTIMEZONE:America/New_York
DTSTART:20260307T153000Z
DTEND:20260307T163000Z
UID:208643
SUMMARY:New & Expecting Moms and Dads Meetup
LOCATION:Ballston Quarter
DESCRIPTION:New & Expecting Moms and Dads Meetup\n\n03/07/26 10:30 AM EST\n - 03/07/26 11:30 AM EST\Description:\nCome hang out with other new and expecting moms and dads monthly on Saturday morning, In March, we are gathering at Ballson Quarter.\n\nUpdates to these events will be shared to the New and Expecting Moms listserv.\Location:\nBallston Quarter\n\n,
X-ALT-DESC;FMTTYPE=text/html:New & Expecting Moms and Dads Meetup<br /><br />03/07/26 10:30 AM EST - 03/07/26 11:30 AM EST<br />Description:<br />Come hang out with other new and expecting moms and dads monthly on Saturday morning, In March, we are gathering at Ballson Quarter.<br />
<br />
Updates to these events will be shared to the New and Expecting Moms listserv.<br />Location:<br />Ballston Quarter<br /><br />,  
PRIORITY:3
TRANSP:TRANSPARENT
BEGIN:VALARM
TRIGGER:-PT5M
ACTION:DISPLAY
DESCRIPTION:Reminder
END:VALARM
END:VEVENT
END:VCALENDAR
