BEGIN:VCALENDAR
VERSION:2.0
CALSCALE:GREGORIAN
METHOD:PUBLISH
PRODID://MONA//207793
BEGIN:VEVENT
DTSTAMP:20260419T141309
VTIMEZONE:America/New_York
DTSTART:20260214T160000Z
DTEND:20260214T170000Z
UID:207793
SUMMARY:MONA Member Social - Go Bananas Dancing!
LOCATION:Faith Lutheran Church, 3313 Arlington Blvd., Arlington, VA, 22201
DESCRIPTION:MONA Member Social - Go Bananas Dancing!\n\n02/14/26 11:00 AM EST\n - 02/14/26 12:00 PM EST\Description:\nPerformer Go Bananas Dancing    \n\nCome join us for this special Valenatine's Day event.  Get your wiggles out and GO BANANAS!\n\n11:00 am\nFaith Lutheran Church / Fellowship Hall\n\nAs always, this event is open to all and free to attend!  MONA member socials are a fun and easy way to meet up with other MONA members and their kids. It is also a great way to introduce friends and family to MONA. Partners, grandparents, and friends are all welcome!\n \Location:\nFaith Lutheran Church\n3313 Arlington Blvd.\nArlington, VA 22201
X-ALT-DESC;FMTTYPE=text/html:MONA Member Social - Go Bananas Dancing!<br /><br />02/14/26 11:00 AM EST - 02/14/26 12:00 PM EST<br />Description:<br />Performer Go Bananas Dancing&nbsp;&nbsp;&nbsp;&nbsp;<br />
<br />
Come join us for this special Valenatine's Day event.&nbsp; Get your wiggles out and GO BANANAS!<br />
<br />
11:00 am<br />
Faith Lutheran Church / Fellowship Hall<br />
<br />
As always, this event is open to all and free to attend!&nbsp; MONA member socials are a fun and easy way to meet up with other MONA members and their kids. It is also a great way to introduce friends and family to MONA. Partners, grandparents, and friends are all welcome!<br />
&nbsp;<br />Location:<br />Faith Lutheran Church<br />3313 Arlington Blvd.<br />Arlington, VA 22201
PRIORITY:3
TRANSP:TRANSPARENT
BEGIN:VALARM
TRIGGER:-PT5M
ACTION:DISPLAY
DESCRIPTION:Reminder
END:VALARM
END:VEVENT
END:VCALENDAR
