BEGIN:VCALENDAR
VERSION:2.0
CALSCALE:GREGORIAN
METHOD:PUBLISH
PRODID://MONA//207541
BEGIN:VEVENT
DTSTAMP:20260420T035047
VTIMEZONE:America/New_York
DTSTART:20260216T143000Z
DTEND:20260216T151500Z
UID:207541
SUMMARY:Moms Who Make Music Cycle Bar Class
LOCATION:Cycle Bar , 3400 Columbia Pike, Suite 100, Arlington, VA, 22204
DESCRIPTION:Moms Who Make Music Cycle Bar Class\n\n02/16/26 09:30 AM EST\n - 02/16/26 10:15 AM EST\Description:\nJoin us at Cycle Bar Columbia Pike (3400 Columbia Pike, Suite 100, Arlington, VA 22204) for a FREE 45 min high-energy, feel-good theme ride celebrating “Moms Who Make Music” on Monday, February 16 with the ride starting at 9:30 AM. This immersive indoor cycling experience combines rhythm, movement, and a powerful playlist inspired by iconic music-making moms, all in our stadium-style cycling studio with motivating instructors and performance metrics.\n \nRiders should plan to arrive 20 minutes early for check-in, bike setup, and a brief intro. Parking is free in the garage for up to 2 hours, with additional street parking available nearby for convenience. No Children allowed.\n \nRiders need to create an account at https://www.cyclebar.com/location/columbia-pike prior to the event.\n \nCycling shoes are available at the studio, or riders may bring their own Delta (3-bolt) or SPD (2-bolt) cleats. Be sure to bring a water bottle, and don’t miss out on exclusive event-only discounts on ride packs and memberships. We can’t wait to ride with you—help us spread the word and let’s fill all 45 bikes! \Location:\nCycle Bar \n3400 Columbia Pike, Suite 100\nArlington, VA 22204
X-ALT-DESC;FMTTYPE=text/html:Moms Who Make Music Cycle Bar Class<br /><br />02/16/26 09:30 AM EST - 02/16/26 10:15 AM EST<br />Description:<br />Join us at&nbsp;<a href="https://www.cyclebar.com/location/columbia-pike" rel="nofollow noopener" target="_blank">Cycle Bar Columbia Pike</a>&nbsp;(3400 Columbia Pike, Suite 100, Arlington, VA 22204) for a FREE 45 min high-energy, feel-good theme ride celebrating &ldquo;Moms Who Make Music&rdquo; on Monday, February 16 with the ride starting at 9:30 AM. This immersive indoor cycling experience combines rhythm, movement, and a powerful playlist inspired by iconic music-making moms, all in our stadium-style cycling studio with motivating instructors and performance metrics.<br />
&nbsp;<br />
Riders should plan to arrive 20 minutes early for check-in, bike setup, and a brief intro. Parking is free in the garage for up to 2 hours, with additional street parking available nearby for convenience. No Children allowed.<br />
&nbsp;<br />
Riders need to create an account at&nbsp;<a href="https://www.cyclebar.com/location/columbia-pike">https://www.cyclebar.com/location/columbia-pike</a> prior to the event.<br />
&nbsp;<br />
Cycling shoes are available at the studio, or riders may bring their own Delta (3-bolt) or SPD (2-bolt) cleats. Be sure to bring a water bottle, and don&rsquo;t miss out on exclusive event-only discounts on ride packs and memberships. We can&rsquo;t wait to ride with you&mdash;help us spread the word and let&rsquo;s fill all 45 bikes!&nbsp;<br />Location:<br />Cycle Bar <br />3400 Columbia Pike, Suite 100<br />Arlington, VA 22204
PRIORITY:3
TRANSP:TRANSPARENT
BEGIN:VALARM
TRIGGER:-PT5M
ACTION:DISPLAY
DESCRIPTION:Reminder
END:VALARM
END:VEVENT
END:VCALENDAR
