BEGIN:VCALENDAR
VERSION:2.0
CALSCALE:GREGORIAN
METHOD:PUBLISH
PRODID://MONA//206685
BEGIN:VEVENT
DTSTAMP:20260420T035159
VTIMEZONE:America/New_York
DTSTART:20260204T000000Z
DTEND:20260204T010000Z
UID:206685
SUMMARY:An Intro to Body Literacy & Menstrual Health for Young Girls
LOCATION:Virtual
DESCRIPTION:An Intro to Body Literacy & Menstrual Health for Young Girls\n\n02/03/26 07:00 PM EST\n - 02/03/26 08:00 PM EST\Description:\nJoin Maureen Hilleary, CFNC of Well Rooted Holistic Health Coaching on February 3, 2026 at 7pm for an introductory presentation on menstrual health and body literacy for young girls and teens (ages 10-17). Maureen is a FEMM-Certified Cycle Educator and teaches girls and women of all ages how to chart their menstrual cycles to assess hormone and overall health, fertility and why it's important. This intro class will give attendees (daughters and moms!) a solid introduction to basic reproductive anatomy, the main hormones and their roles in the body, what's happening during puberty and how charting works.\nThis is a virtual event that includes Q & A time.\n\nIn addition to her FEMM training, Maureen is a Board Certified Functional Nutrition Practitioner, Master Health and Wellness Coach and Metabolic Health Coach. She owns a private virtual Women's Wellness practice in Alexandria that uses Functional Nutrition and holistic living practices to optimize health, hormones and the cycle.\Location:\nVirtual\n\n,
X-ALT-DESC;FMTTYPE=text/html:An Intro to Body Literacy & Menstrual Health for Young Girls<br /><br />02/03/26 07:00 PM EST - 02/03/26 08:00 PM EST<br />Description:<br />Join Maureen Hilleary, CFNC of Well Rooted Holistic Health Coaching on February 3, 2026 at 7pm for an introductory presentation on menstrual health and body literacy for young girls and teens (ages 10-17). Maureen is a FEMM-Certified Cycle Educator and teaches girls and women of all ages how to chart their menstrual cycles to assess hormone and overall health, fertility and why it's important. This intro class will give attendees (daughters and moms!) a solid introduction to basic reproductive anatomy, the main hormones and their roles in the body, what's happening during puberty and how charting works.<br />
This is a virtual event that includes Q &amp; A time.<br />
<br />
In addition to her FEMM training, Maureen is a Board Certified Functional Nutrition Practitioner, Master Health and Wellness Coach and Metabolic Health Coach. She owns a private virtual Women's Wellness practice in Alexandria that uses Functional Nutrition and holistic living practices to optimize health, hormones and the cycle.<br />Location:<br />Virtual<br /><br />,  
PRIORITY:3
TRANSP:TRANSPARENT
BEGIN:VALARM
TRIGGER:-PT5M
ACTION:DISPLAY
DESCRIPTION:Reminder
END:VALARM
END:VEVENT
END:VCALENDAR
