BEGIN:VCALENDAR
VERSION:2.0
CALSCALE:GREGORIAN
METHOD:PUBLISH
PRODID://MONA//202525
BEGIN:VEVENT
DTSTAMP:20260420T035031
VTIMEZONE:America/New_York
DTSTART:20251127T130000Z
DTEND:20251127T150000Z
UID:202525
SUMMARY:Arlington Turkey Trot MONA Group
LOCATION:Lyon Park Community Center
DESCRIPTION:Arlington Turkey Trot MONA Group\n\n11/27/25 08:00 AM EST\n - 11/27/25 10:00 AM EST\Description:\nMONA is thrilled to be a sponsor this year of the 20th annual Arlington Turkey Trot!\n\nJoin us, Thursday, November 27, 2025, near Lyon Park Community Center as Arlington trots through the streets of Lyon Park and Ashton Heights on Thanksgiving morning to give thanks for all we have to give. Official start time is 8:00 am.\n\nUse this link to register for the MONA team! https://runsignup.com/Race/Register/RaceGroup-1936209?raceId=187919\nAlready registered for the race? Not a problem! You can add yourself to the MONA team on the RunSignUp platform.\n\nREGISTRATION FEES:\nAdults - $50\nChildren (6-17) - $25\nChildren (5 & under) - no charge\n(Run Sign UP is the registration platform.)\n\nThe race could also use volunteers.  Please reach out if you are interested in volunteering!\Location:\nLyon Park Community Center\n\n,
X-ALT-DESC;FMTTYPE=text/html:Arlington Turkey Trot MONA Group<br /><br />11/27/25 08:00 AM EST - 11/27/25 10:00 AM EST<br />Description:<br />MONA is thrilled to be a sponsor this year of the 20th annual Arlington Turkey Trot!<br />
<br />
Join us, Thursday, November 27, 2025, near Lyon Park Community Center as Arlington trots through the streets of Lyon Park and Ashton Heights on Thanksgiving morning to give thanks for all we have to give. Official start time is 8:00 am.<br />
<br />
Use this link to register for the MONA team!&nbsp;<a data-saferedirecturl="https://www.google.com/url?q=https://runsignup.com/Race/Register/RaceGroup-1936209?raceId%3D187919&amp;source=gmail&amp;ust=1762371854595000&amp;usg=AOvVaw3uIlHTkzHgS3GzKSvFH2Rr" href="https://runsignup.com/Race/Register/RaceGroup-1936209?raceId=187919" target="_blank">https://runsignup.com/Race/<wbr />Register/RaceGroup-1936209?<wbr />raceId=187919</a><br />
Already registered for the race? Not a problem! You can add yourself to the MONA team on the RunSignUp platform.<br />
<br />
REGISTRATION FEES:<br />
Adults - $50<br />
Children (6-17) - $25<br />
Children (5 &amp; under) - no charge<br />
(Run Sign UP is the registration platform.)<br />
<br />
The race could also use volunteers.&nbsp; Please reach out if you are interested in volunteering!<br />Location:<br />Lyon Park Community Center<br /><br />,  
PRIORITY:3
TRANSP:TRANSPARENT
BEGIN:VALARM
TRIGGER:-PT5M
ACTION:DISPLAY
DESCRIPTION:Reminder
END:VALARM
END:VEVENT
END:VCALENDAR
