BEGIN:VCALENDAR
VERSION:2.0
CALSCALE:GREGORIAN
METHOD:PUBLISH
PRODID://MONA//201440
BEGIN:VEVENT
DTSTAMP:20260422T045029
VTIMEZONE:America/New_York
DTSTART:20251120T233000Z
DTEND:20251121T010000Z
UID:201440
SUMMARY:MONA Book Club's November Read: Midnight Library
LOCATION:Central Library Meeting Room , 1015 N. Quincy Street , Arlington, VA, 22201
DESCRIPTION:MONA Book Club's November Read: Midnight Library\n\n11/20/25 06:30 PM EST\n - 11/20/25 08:00 PM EST\Description:\nJoin the MONA Book Club for our November Read: Midnight Library by Matt Haig\n\nAbout the Book:\n\nSomewhere out beyond the edge of the universe there is a library that contains an infinite number of books, each one the story of another reality. One tells the story of your life as it is, along with another book for the other life you could have lived if you had made a different choice at any point in your life. While we all wonder how our lives might have been, what if you had the chance to go to the library and see for yourself? Would any of these other lives truly be better?\n\nIn The Midnight Library, Matt Haig's enchanting blockbuster novel, Nora Seed finds herself faced with this decision. Faced with the possibility of changing her life for a new one, following a different career, undoing old breakups, realizing her dreams of becoming a glaciologist; she must search within herself as she travels through the Midnight Library to decide what is truly fulfilling in life, and what makes it worth living in the first place.\n\nEvent Details\nNovember 20, 2025 at 6:30 pm\n\nLocation:\nCentral Library Meeting Room\n1015 N. Quincy Street\nArlington, VA 22201\Location:\nCentral Library Meeting Room \n1015 N. Quincy Street \nArlington, VA 22201
X-ALT-DESC;FMTTYPE=text/html:MONA Book Club's November Read: Midnight Library<br /><br />11/20/25 06:30 PM EST - 11/20/25 08:00 PM EST<br />Description:<br />Join the MONA Book Club for our November Read: Midnight Library by Matt Haig<br />
<br />
About the Book:<br />
<br />
Somewhere out beyond the edge of the universe there is a library that contains an infinite number of books, each one the story of another reality. One tells the story of your life as it is, along with another book for the other life you could have lived if you had made a different choice at any point in your life. While we all wonder how our lives might have been, what if you had the chance to go to the library and see for yourself? Would any of these other lives truly be better?<br />
<br />
In The Midnight Library, Matt Haig's enchanting blockbuster novel, Nora Seed finds herself faced with this decision. Faced with the possibility of changing her life for a new one, following a different career, undoing old breakups, realizing her dreams of becoming a glaciologist; she must search within herself as she travels through the Midnight Library to decide what is truly fulfilling in life, and what makes it worth living in the first place.<br />
<br />
<strong>Event Details</strong><br />
November 20, 2025 at 6:30 pm<br />
<br />
Location:<br />
Central Library Meeting Room<br />
1015 N. Quincy Street<br />
Arlington, VA 22201<br />Location:<br />Central Library Meeting Room <br />1015 N. Quincy Street <br />Arlington, VA 22201
PRIORITY:3
TRANSP:TRANSPARENT
BEGIN:VALARM
TRIGGER:-PT5M
ACTION:DISPLAY
DESCRIPTION:Reminder
END:VALARM
END:VEVENT
END:VCALENDAR
