BEGIN:VCALENDAR
VERSION:2.0
CALSCALE:GREGORIAN
METHOD:PUBLISH
PRODID://MONA//201439
BEGIN:VEVENT
DTSTAMP:20260422T045104
VTIMEZONE:America/New_York
DTSTART:20251217T233000Z
DTEND:20251218T010000Z
UID:201439
SUMMARY:MONA Book Club's December Meeting: Comfort & Joy
LOCATION:Central Library Meeting Room , 1015 N. Quincy Street , Arlington, VA, 22201
DESCRIPTION:MONA Book Club's December Meeting: Comfort & Joy\n\n12/17/25 06:30 PM EST\n - 12/17/25 08:00 PM EST\Description:\nJoin the MONA Book Club for our December Read: Comfort & Joy by Kristin Hannah\n\nAbout the Book:\n\nJoy Candellaro once loved Christmas more than any other time of the year. Now, as the holiday approaches, she is at a crossroads in her life; recently divorced and alone, she can’t summon the old enthusiasm for celebrating. So without telling anyone, she buys a ticket and boards a plane bound for the beautiful Pacific Northwest. When an unexpected detour takes her deep into the woods of the Olympic rainforest, Joy makes a bold decision to leave her ordinary life behind—to just walk away—and thus begins an adventure unlike any she could have imagined.\n\nIn the small town of Rain Valley, six-year-old Bobby O’Shea is facing his first Christmas without a mother. Unable to handle the loss, Bobby has closed himself off from the world, talking only to his invisible best friend. His father Daniel is beside himself, desperate to help his son cope. Yet when the little boy meets Joy, these two unlikely souls form a deep and powerful bond. In helping Bobby and Daniel heal, Joy finds herself again.\n\nBut not everything is as it seems in quiet Rain Valley, and in an instant, Joy’s world is ripped apart, and her heart is broken. On a magical Christmas Eve, a night of impossible dreams and unexpected chances, Joy must find the courage to believe in a love—and a family—that can’t possibly exist, and go in search of what she wants . . . and the new life only she can find.\n\nEvent Details\nDecember 17, 2025 at 6:30 pm\n\nLocation:\nCentral Library Meeting Room\n1015 N. Quincy Street\nArlington, VA 22201\n \Location:\nCentral Library Meeting Room \n1015 N. Quincy Street \nArlington, VA 22201
X-ALT-DESC;FMTTYPE=text/html:MONA Book Club's December Meeting: Comfort & Joy<br /><br />12/17/25 06:30 PM EST - 12/17/25 08:00 PM EST<br />Description:<br />Join the MONA Book Club for our December Read: Comfort &amp; Joy by Kristin Hannah<br />
<br />
About the Book:<br />
<br />
Joy Candellaro once loved Christmas more than any other time of the year. Now, as the holiday approaches, she is at a crossroads in her life; recently divorced and alone, she can&rsquo;t summon the old enthusiasm for celebrating. So without telling anyone, she buys a ticket and boards a plane bound for the beautiful Pacific Northwest. When an unexpected detour takes her deep into the woods of the Olympic rainforest, Joy makes a bold decision to leave her ordinary life behind&mdash;to just walk away&mdash;and thus begins an adventure unlike any she could have imagined.<br />
<br />
In the small town of Rain Valley, six-year-old Bobby O&rsquo;Shea is facing his first Christmas without a mother. Unable to handle the loss, Bobby has closed himself off from the world, talking only to his invisible best friend. His father Daniel is beside himself, desperate to help his son cope. Yet when the little boy meets Joy, these two unlikely souls form a deep and powerful bond. In helping Bobby and Daniel heal, Joy finds herself again.<br />
<br />
But not everything is as it seems in quiet Rain Valley, and in an instant, Joy&rsquo;s world is ripped apart, and her heart is broken. On a magical Christmas Eve, a night of impossible dreams and unexpected chances, Joy must find the courage to believe in a love&mdash;and a family&mdash;that can&rsquo;t possibly exist, and go in search of what she wants . . . and the new life only she can find.<br />
<br />
Event Details<br />
December 17, 2025 at 6:30 pm<br />
<br />
Location:<br />
Central Library Meeting Room<br />
1015 N. Quincy Street<br />
Arlington, VA 22201<br />
&nbsp;<br />Location:<br />Central Library Meeting Room <br />1015 N. Quincy Street <br />Arlington, VA 22201
PRIORITY:3
TRANSP:TRANSPARENT
BEGIN:VALARM
TRIGGER:-PT5M
ACTION:DISPLAY
DESCRIPTION:Reminder
END:VALARM
END:VEVENT
END:VCALENDAR
