BEGIN:VCALENDAR
VERSION:2.0
CALSCALE:GREGORIAN
METHOD:PUBLISH
PRODID://MONA//201188
BEGIN:VEVENT
DTSTAMP:20260420T015911
VTIMEZONE:America/New_York
DTSTART:20251101T143000Z
DTEND:20251101T163000Z
UID:201188
SUMMARY:MONA New Moms Storytime
LOCATION:, Westover Library: Longfellow Room, 1644 McKinley Rd #3
DESCRIPTION:MONA New Moms Storytime\n\n11/01/25 10:30 AM EST\n - 11/01/25 12:30 PM EST\Description:\nCalling all new and expecting parents! Join the Moms of North Arlington (MONA) at the Westover Library for a Halloween-themed Baby Lap Sit filled with gentle songs, sweet stories, and a touch of spooky fun. This special session is designed for families with babies ages 0–12 months.\nLed by a former teacher for deaf students (and MONA grandma!) the event will also introduce a few beginner signs to help you start teaching your little one baby sign language—an engaging way to bond and communicate.\nStorytime runs from 10:30 to 11:00 AM, followed by casual mingling with fellow moms, dads, and babies. It’s a great chance to connect, share, and celebrate the season together.\nThis event is not planned or sponsored by the Arlington Public Library.\n\nNote: This event replaces the regular November New Moms and Dads park meetup. Please RSVP to Deanne de Lima at Deanne.delima@gmail.com or 402-202-0331.\n \Location:\n\nWestover Library: Longfellow Room, 1644 McKinley Rd #3\n,
X-ALT-DESC;FMTTYPE=text/html:MONA New Moms Storytime<br /><br />11/01/25 10:30 AM EST - 11/01/25 12:30 PM EST<br />Description:<br />Calling all new and expecting parents! Join the Moms of North Arlington (MONA) at the Westover Library for a Halloween-themed Baby Lap Sit filled with gentle songs, sweet stories, and a touch of spooky fun. This special session is designed for families with babies ages 0&ndash;12 months.<br />
Led by a former teacher for deaf students (and MONA grandma!) the event will also introduce a few beginner signs to help you start teaching your little one baby sign language&mdash;an engaging way to bond and communicate.<br />
Storytime runs from 10:30 to 11:00 AM, followed by casual mingling with fellow moms, dads, and babies. It&rsquo;s a great chance to connect, share, and celebrate the season together.<br />
This event is not planned or sponsored by the Arlington Public Library.<br />
<br />
<strong>Note: This event replaces the regular November New Moms and Dads park meetup. Please RSVP to Deanne de Lima at&nbsp;<a href="mailto:Deanne.delima@gmail.com" target="_blank">Deanne.delima@gmail.com</a>&nbsp;or 402-202-0331.</strong><br />
&nbsp;<br />Location:<br /><br />Westover Library: Longfellow Room, 1644 McKinley Rd #3<br />,  
PRIORITY:3
TRANSP:TRANSPARENT
BEGIN:VALARM
TRIGGER:-PT5M
ACTION:DISPLAY
DESCRIPTION:Reminder
END:VALARM
END:VEVENT
END:VCALENDAR
