BEGIN:VCALENDAR
VERSION:2.0
CALSCALE:GREGORIAN
METHOD:PUBLISH
PRODID://MONA//200773
BEGIN:VEVENT
DTSTAMP:20260422T051329
VTIMEZONE:America/New_York
DTSTART:20251108T143000Z
DTEND:20251108T160000Z
UID:200773
SUMMARY:Multilingual Storytime
LOCATION:Communikids, 115 Hillwood Ave
DESCRIPTION:Multilingual Storytime\n\n11/08/25 09:30 AM EST\n - 11/08/25 11:00 AM EST\Description:\nJoin Us for a Free Multilingual Storytime Event!\n Saturday, November 8, 2025\n 9:30 AM – 11:00 AM\n CommuniKids 115 Hillwood Ave. Falls Church, VA 22046\nBring your little ones to an engaging morning of storytime, movement, and arts & crafts — all while experiencing the magic of Spanish, French, and Mandarin!\nThis fun and interactive session is designed for children birth to 6 years of age and will spark curiosity, creativity, and a love of languages.\n Highlights include:\nInteractive storytelling in three languages\nMovement and music activities to get kids moving\nArts & crafts projects inspired by cultural traditions\nThis event is FREE and open to families in the community.\Location:\nCommunikids\n115 Hillwood Ave\n,
X-ALT-DESC;FMTTYPE=text/html:Multilingual Storytime<br /><br />11/08/25 09:30 AM EST - 11/08/25 11:00 AM EST<br />Description:<br />Join Us for a Free Multilingual Storytime Event!<br />
&nbsp;Saturday, November 8, 2025<br />
&nbsp;9:30 AM &ndash; 11:00 AM<br />
&nbsp;CommuniKids 115 Hillwood Ave. Falls Church, VA 22046<br />
Bring your little ones to an engaging morning of storytime, movement, and arts &amp; crafts &mdash; all while experiencing the magic of Spanish, French, and Mandarin!<br />
This fun and interactive session is designed for children birth to 6 years of age and will spark curiosity, creativity, and a love of languages.<br />
&nbsp;Highlights include:<br />
Interactive storytelling in three languages<br />
Movement and music activities to get kids moving<br />
Arts &amp; crafts projects inspired by cultural traditions<br />
This event is FREE and open to families in the community.<br />Location:<br />Communikids<br />115 Hillwood Ave<br />,  
PRIORITY:3
TRANSP:TRANSPARENT
BEGIN:VALARM
TRIGGER:-PT5M
ACTION:DISPLAY
DESCRIPTION:Reminder
END:VALARM
END:VEVENT
END:VCALENDAR
