BEGIN:VCALENDAR
VERSION:2.0
CALSCALE:GREGORIAN
METHOD:PUBLISH
PRODID://MONA//199688
BEGIN:VEVENT
DTSTAMP:20260420T014326
VTIMEZONE:America/New_York
DTSTART:20251007T143000Z
DTEND:20251007T160000Z
UID:199688
SUMMARY:New Mom Coffee
LOCATION:Roggenart's , 4401 Wilson Blvd
DESCRIPTION:New Mom Coffee\n\n10/07/25 10:30 AM EST\n - 10/07/25 12:00 PM EST\Description:\nJoin other MONA New Moms (and babies!) at Roggenart (4401 Wilson Blvd) weekly on Tuesdays at 10:30 am.  Look forward to seeing you there!  Any event updates will be posted in the New Mom forum.\n\nWant to be in the know about other New Mom subgroup events?  Join the subgroup at: https://monaforums.groups.io/g/NewMoms.\Location:\nRoggenart's \n4401 Wilson Blvd\n,
X-ALT-DESC;FMTTYPE=text/html:New Mom Coffee<br /><br />10/07/25 10:30 AM EST - 10/07/25 12:00 PM EST<br />Description:<br />Join other MONA New Moms (and babies!) at Roggenart (4401 Wilson Blvd) weekly on Tuesdays at 10:30 am. &nbsp;Look forward to seeing you there! &nbsp;Any event updates will be posted in the New Mom forum.<br />
<br />
Want to be in the know about other New Mom subgroup events? &nbsp;Join the subgroup at: <a href="https://monaforums.groups.io/g/NewMoms">https://monaforums.groups.io/g/NewMoms</a>.<br />Location:<br />Roggenart's <br />4401 Wilson Blvd<br />,  
PRIORITY:3
TRANSP:TRANSPARENT
BEGIN:VALARM
TRIGGER:-PT5M
ACTION:DISPLAY
DESCRIPTION:Reminder
END:VALARM
END:VEVENT
END:VCALENDAR
