BEGIN:VCALENDAR
VERSION:2.0
CALSCALE:GREGORIAN
METHOD:PUBLISH
PRODID://MONA//194868
BEGIN:VEVENT
DTSTAMP:20260422T080625
VTIMEZONE:America/New_York
DTSTART:20251115T200000Z
DTEND:20251115T210000Z
UID:194868
SUMMARY:Member Meet-up
LOCATION:Lacey Woods Park, 1200 N George Mason Dr., Arlington, VA, 22205
DESCRIPTION:Member Meet-up\n\n11/15/25 03:00 PM EST\n - 11/15/25 04:00 PM EST\Description:\nLooking to make more MONA connections, learn about what’s happening in the community, or just enjoy a morning out at the park? Whether you’ve been around for a while or are just getting back into the swing of things, we’d love to see you!\nJoin us for a Member Meet-up on November 15, 2025, from 3:00-4:00 pm at the Clarendon Crossing Park. \nIt’s a relaxed, friendly way to connect, catch up, and find out more about upcoming events and volunteer opportunities.\nHope to see you there!\n \Location:\nLacey Woods Park\n1200 N George Mason Dr.\nArlington, VA 22205
X-ALT-DESC;FMTTYPE=text/html:Member Meet-up<br /><br />11/15/25 03:00 PM EST - 11/15/25 04:00 PM EST<br />Description:<br />Looking to make more MONA connections, learn about what&rsquo;s happening in the community, or just enjoy a morning out at the park? Whether you&rsquo;ve been around for a while or are just getting back into the swing of things, we&rsquo;d love to see you!<br />
Join us for a Member Meet-up on November 15, 2025, from 3:00-4:00 pm at the Clarendon Crossing Park.&nbsp;<br />
It&rsquo;s a relaxed, friendly way to connect, catch up, and find out more about upcoming events and volunteer opportunities.<br />
Hope to see you there!<br />
&nbsp;<br />Location:<br />Lacey Woods Park<br />1200 N George Mason Dr.<br />Arlington, VA 22205
PRIORITY:3
TRANSP:TRANSPARENT
BEGIN:VALARM
TRIGGER:-PT5M
ACTION:DISPLAY
DESCRIPTION:Reminder
END:VALARM
END:VEVENT
END:VCALENDAR
