BEGIN:VCALENDAR
VERSION:2.0
CALSCALE:GREGORIAN
METHOD:PUBLISH
PRODID://MONA//193831
BEGIN:VEVENT
DTSTAMP:20260419T235923
VTIMEZONE:America/New_York
DTSTART:20251213T160000Z
DTEND:20251213T170000Z
UID:193831
SUMMARY:MONA Member Social - Kidsinger Jim
LOCATION:Faith Lutheran Church, 3313 Arlington Blvd., Arlington, VA, 22201
DESCRIPTION:MONA Member Social - Kidsinger Jim\n\n12/13/25 11:00 AM EST\n - 12/13/25 12:00 PM EST\Description:\nPerformer Kidsinger Jim\n\nKidsinger Jim, a MONA favorite, is back with us for our December member social!\n\n11:00 am\nFaith Lutheran Church / Fellowship Hall\n\nAs always, this event is open to all and free to attend!  MONA member socials are a fun and easy way to meet up with other MONA members and their kids. It is also a great way to introduce friends and family to MONA. Partners, grandparents, and friends are all welcome!\n \Location:\nFaith Lutheran Church\n3313 Arlington Blvd.\nArlington, VA 22201
X-ALT-DESC;FMTTYPE=text/html:MONA Member Social - Kidsinger Jim<br /><br />12/13/25 11:00 AM EST - 12/13/25 12:00 PM EST<br />Description:<br />Performer Kidsinger Jim<br />
<br />
Kidsinger Jim, a MONA favorite, is back with us for our December member social!<br />
<br />
11:00 am<br />
Faith Lutheran Church / Fellowship Hall<br />
<br />
As always, this event is open to all and free to attend!&nbsp; MONA member socials are a fun and easy way to meet up with other MONA members and their kids. It is also a great way to introduce friends and family to MONA. Partners, grandparents, and friends are all welcome!<br />
&nbsp;<br />Location:<br />Faith Lutheran Church<br />3313 Arlington Blvd.<br />Arlington, VA 22201
PRIORITY:3
TRANSP:TRANSPARENT
BEGIN:VALARM
TRIGGER:-PT5M
ACTION:DISPLAY
DESCRIPTION:Reminder
END:VALARM
END:VEVENT
END:VCALENDAR
