BEGIN:VCALENDAR
VERSION:2.0
CALSCALE:GREGORIAN
METHOD:PUBLISH
PRODID://MONA//134910
BEGIN:VEVENT
DTSTAMP:20260423T053347
VTIMEZONE:America/New_York
DTSTART:20200220T233000Z
DTEND:20200221T013000Z
UID:134910
SUMMARY:Training on Infant & Child CPR/AED and Child and Infant choking rescue - 2/20/20
LOCATION:JW Tumbles Arlington, 2499 N. Harrison Street, Arlington, 22207
DESCRIPTION:Training on Infant & Child CPR/AED and Child and Infant choking rescue - 2/20/20\n\n02/20/20 06:30 PM EST\n - 02/20/20 08:30 PM EST\Description:\nTraining on Infant & Child CPR/AED and Child and Infant choking rescue\n\nIt takes two hours of your time to learn skills that could save your child’s life.  Experienced Intensive Care Registered Nurses (and MONA mom!) will teach this class.\n\nDuring this class you will learn Infant and Child CPR, AED, and what to do if your infant or child is choking. These are skills everyone caring for an infant or child should have so that they will know what to do in an emergency situation.\n\nThis is the perfect class for parents. It’s also a great class for your nanny, babysitter, or family member who might be caring for your child.  Please note that this class is an adults-only class.\n\nMember Fee: MONA is being offered a 15% group discount, bringing the cost down to $60 (normally $69.00) PER PERSON.\n\nPlease note: MONA does not offer refunds or transfers. Email monaoutings@gmail.com with questions. \n\n \n\Location:\nJW Tumbles Arlington\n2499 N. Harrison Street\nArlington,  22207
X-ALT-DESC;FMTTYPE=text/html:Training on Infant & Child CPR/AED and Child and Infant choking rescue - 2/20/20<br /><br />02/20/20 06:30 PM EST - 02/20/20 08:30 PM EST<br />Description:<br /><p style="margin-bottom:0pt;vertical-align:baseline"><span style="font-family:arial,helvetica,sans-serif;"><span style="font-size:14px;"><u><strong>Training on Infant &amp; Child CPR/AED and Child and Infant choking rescue</strong></u></span></span></p>

<p style="margin-bottom:0pt;vertical-align:baseline"><span style="font-family:arial,helvetica,sans-serif;"><span style="font-size:14px;">It takes two hours of your time to learn skills that could save your child&rsquo;s life.&nbsp; Experienced Intensive Care Registered Nurses (and MONA mom!) will teach this class.</span></span></p>

<p style="margin-bottom:0pt;vertical-align:baseline"><span style="font-family:arial,helvetica,sans-serif;"><span style="font-size:14px;">During this class you will learn Infant and Child CPR, AED, and what to do if your infant or child is choking. These are skills everyone caring for an infant or child should have so that they will know what to do in an emergency situation.</span></span></p>

<p style="margin-bottom:0pt;vertical-align:baseline"><span style="font-family:arial,helvetica,sans-serif;"><span style="font-size:14px;">This is the perfect class for parents. It&rsquo;s also a great class for your nanny, babysitter, or family member who might be caring for your child.&nbsp; Please note that this class is an adults-only class.</span></span></p>

<p style="line-height:normal;margin-bottom:0pt"><span style="font-family:arial,helvetica,sans-serif;"><span style="font-size:14px;"><strong>Member Fee: </strong>MONA is being offered a 15% group discount, bringing the cost down to <strong>$60</strong> (normally $69.00) <strong>PER PERSON</strong>.<br />
<br />
Please note: MONA does not offer refunds or transfers. Email monaoutings@gmail.com with questions.&nbsp;</span></span></p>

<p style="line-height:normal;margin-bottom:0pt">&nbsp;</p>
<br />Location:<br />JW Tumbles Arlington<br />2499 N. Harrison Street<br />Arlington,  22207
PRIORITY:3
TRANSP:TRANSPARENT
BEGIN:VALARM
TRIGGER:-PT5M
ACTION:DISPLAY
DESCRIPTION:Reminder
END:VALARM
END:VEVENT
END:VCALENDAR
