BEGIN:VCALENDAR
VERSION:2.0
CALSCALE:GREGORIAN
METHOD:PUBLISH
PRODID://MONA//100127
BEGIN:VEVENT
DTSTAMP:20260425T143110
VTIMEZONE:America/New_York
DTSTART:20200702T000000Z
DTEND:20200702T010000Z
UID:100127
SUMMARY:VIRTUAL SPEAKER: Ringmaster in the Time of COVID with Author Jenn Folsom
LOCATION:
DESCRIPTION:VIRTUAL SPEAKER: Ringmaster in the Time of COVID with Author Jenn Folsom\n\n07/01/20 08:00 PM EST\n - 07/01/20 09:00 PM EST\Description:\nFeel like your life is a circus? Join author Jenn Folsom, to learn her framework, strategies and tips for becoming the ringmaster of your circus. Based on her new book, titled, Ringmaster, she discusses that if you're working and caregiving there is no balance, your life is indeed a circus. And in the time of COVID, this circus is live-streamed on Zoom for the whole world to see! But you can be the RINGMASTER of your circus, deciding what goes into each ring (work, life, you) and where and when the spotlight shines.\n\nJenn's talk with be interactive and will include time for Q&A. \n\nYou can learn more about Jenn in her bio below and a link to her website as well.\n\nJennifer Folsom is a dynamic, high-energy leader with a proven record of growing all sizes of professional services firms while growing a family. She is the Vice President of Client Delivery at RIVA Solutions Inc., a Washington, DC- based IT management consulting firm. A human capital expert, she leverages a people-centered approach to drive revenue in organizations from start-up to Big 4. An-oft quoted expert in corporate culture, Jennifer promotes the notion that the multiple in firm valuation starts with the people. She's also the mom of 3 sons, 17-year-old twins and a 12-year old-firecracker. Jennifer loves her work but knows that living your whole best life is the ultimate key to success.\n\nWebsite: jenniferfolsom.net\n\nTo Join the Meeting:\nhttps://us02web.zoom.us/j/82715483765?pwd=QTkyTVpEOGpoS0s5UFlqZlZTcG01QT09\n\nMeeting ID: 82715483765\n\nMeeting Password is Required: MONAtalk\n\nDial In Numbers: Germantown +1 3017158592, Chicago +1 3126266799, Houston +1 3462487799, New York +1 6465588656, San Jose +1 6699009128, Tacoma +1 2532158782\n 
X-ALT-DESC;FMTTYPE=text/html:VIRTUAL SPEAKER: Ringmaster in the Time of COVID with Author Jenn Folsom<br /><br />07/01/20 08:00 PM EST - 07/01/20 09:00 PM EST<br />Description:<br />Feel like your life is a circus? Join author&nbsp;Jenn Folsom, to learn her framework, strategies and tips for becoming the ringmaster of your circus. Based on her new book, titled, <em>Ringmaster</em>, she discusses&nbsp;that if you're working and caregiving there is no balance, your life is indeed a circus. And in the time of COVID, this circus is live-streamed on Zoom for the whole world to see!&nbsp;But you can be the RINGMASTER of your circus, deciding what goes into each ring (work, life, you) and where and when the spotlight shines.<br />
<br />
Jenn's talk with be interactive and will include time for Q&amp;A.&nbsp;<br />
<br />
You can learn more about Jenn in her bio below and a link to her website as well.<br />
<br />
Jennifer Folsom is a dynamic, high-energy leader with a proven record of growing all sizes of professional services firms while growing a family. She is the Vice President of Client Delivery at RIVA Solutions Inc., a Washington, DC- based IT management consulting firm. A human capital expert, she leverages a people-centered approach to drive revenue in organizations from start-up to Big 4. An-oft quoted expert in corporate culture, Jennifer promotes the notion that the multiple in firm valuation starts with the people. She's also the mom of 3 sons, 17-year-old twins and a 12-year old-firecracker.&nbsp;Jennifer loves her work but knows that living your whole best life is the ultimate key to success.<br />
<br />
<strong>Website</strong>: <a href="http://jenniferfolsom.net">jenniferfolsom.net</a><br />
<br />
To Join the Meeting:<br />
<a href="https://us02web.zoom.us/j/82715483765?pwd=QTkyTVpEOGpoS0s5UFlqZlZTcG01QT09">https://us02web.zoom.us/j/82715483765?pwd=QTkyTVpEOGpoS0s5UFlqZlZTcG01QT09</a><br />
<br />
Meeting ID: 82715483765<br />
<br />
Meeting Password is Required: MONAtalk<br />
<br />
Dial In Numbers: Germantown +1 3017158592, Chicago +1 3126266799, Houston +1 3462487799, New York +1 6465588656, San Jose +1 6699009128, Tacoma +1 2532158782<br />
&nbsp;
PRIORITY:3
TRANSP:TRANSPARENT
BEGIN:VALARM
TRIGGER:-PT5M
ACTION:DISPLAY
DESCRIPTION:Reminder
END:VALARM
END:VEVENT
END:VCALENDAR
